BEGIN:VCALENDAR
VERSION:2.0
PRODID:-//BCSDH - ECPv6.15.20//NONSGML v1.0//EN
CALSCALE:GREGORIAN
METHOD:PUBLISH
X-WR-CALNAME:BCSDH
X-ORIGINAL-URL:https://bcsdh.hu/en/
X-WR-CALDESC:Events for BCSDH
REFRESH-INTERVAL;VALUE=DURATION:PT1H
X-Robots-Tag:noindex
X-PUBLISHED-TTL:PT1H
BEGIN:VTIMEZONE
TZID:Europe/Budapest
BEGIN:DAYLIGHT
TZOFFSETFROM:+0100
TZOFFSETTO:+0200
TZNAME:CEST
DTSTART:20250330T010000
END:DAYLIGHT
BEGIN:STANDARD
TZOFFSETFROM:+0200
TZOFFSETTO:+0100
TZNAME:CET
DTSTART:20251026T010000
END:STANDARD
BEGIN:DAYLIGHT
TZOFFSETFROM:+0100
TZOFFSETTO:+0200
TZNAME:CEST
DTSTART:20260329T010000
END:DAYLIGHT
BEGIN:STANDARD
TZOFFSETFROM:+0200
TZOFFSETTO:+0100
TZNAME:CET
DTSTART:20261025T010000
END:STANDARD
BEGIN:DAYLIGHT
TZOFFSETFROM:+0100
TZOFFSETTO:+0200
TZNAME:CEST
DTSTART:20270328T010000
END:DAYLIGHT
BEGIN:STANDARD
TZOFFSETFROM:+0200
TZOFFSETTO:+0100
TZNAME:CET
DTSTART:20271031T010000
END:STANDARD
END:VTIMEZONE
BEGIN:VEVENT
DTSTART;TZID=Europe/Budapest:20260421T140000
DTEND;TZID=Europe/Budapest:20260421T160000
DTSTAMP:20260421T120722
CREATED:20260313T111212Z
LAST-MODIFIED:20260313T111212Z
UID:76583-1776780000-1776787200@bcsdh.hu
SUMMARY:ESG Working Group
DESCRIPTION:Event exclusively for members of the BCSDH ESG Working Group\nTo participate in the event\, you must pre-register using the form below:\nTo join the working group or for any questions or comments\, please contact Zsófia Dudás Galambosné (zsofia.dudas@bcsdh.hu)\, the person in charge of the working group. \nThanks to our sponsors! \n 
URL:https://bcsdh.hu/en/event/esg-working-group-11/
LOCATION:IFUA Horváth
CATEGORIES:ESG
END:VEVENT
END:VCALENDAR