BEGIN:VCALENDAR
VERSION:2.0
PRODID:-//BCSDH - ECPv6.15.20//NONSGML v1.0//EN
CALSCALE:GREGORIAN
METHOD:PUBLISH
X-WR-CALNAME:BCSDH
X-ORIGINAL-URL:https://bcsdh.hu/en/
X-WR-CALDESC:Events for BCSDH
REFRESH-INTERVAL;VALUE=DURATION:PT1H
X-Robots-Tag:noindex
X-PUBLISHED-TTL:PT1H
BEGIN:VTIMEZONE
TZID:Europe/Budapest
BEGIN:DAYLIGHT
TZOFFSETFROM:+0100
TZOFFSETTO:+0200
TZNAME:CEST
DTSTART:20230326T010000
END:DAYLIGHT
BEGIN:STANDARD
TZOFFSETFROM:+0200
TZOFFSETTO:+0100
TZNAME:CET
DTSTART:20231029T010000
END:STANDARD
BEGIN:DAYLIGHT
TZOFFSETFROM:+0100
TZOFFSETTO:+0200
TZNAME:CEST
DTSTART:20240331T010000
END:DAYLIGHT
BEGIN:STANDARD
TZOFFSETFROM:+0200
TZOFFSETTO:+0100
TZNAME:CET
DTSTART:20241027T010000
END:STANDARD
BEGIN:DAYLIGHT
TZOFFSETFROM:+0100
TZOFFSETTO:+0200
TZNAME:CEST
DTSTART:20250330T010000
END:DAYLIGHT
BEGIN:STANDARD
TZOFFSETFROM:+0200
TZOFFSETTO:+0100
TZNAME:CET
DTSTART:20251026T010000
END:STANDARD
BEGIN:DAYLIGHT
TZOFFSETFROM:+0100
TZOFFSETTO:+0200
TZNAME:CEST
DTSTART:20260329T010000
END:DAYLIGHT
BEGIN:STANDARD
TZOFFSETFROM:+0200
TZOFFSETTO:+0100
TZNAME:CET
DTSTART:20261025T010000
END:STANDARD
BEGIN:DAYLIGHT
TZOFFSETFROM:+0100
TZOFFSETTO:+0200
TZNAME:CEST
DTSTART:20270328T010000
END:DAYLIGHT
BEGIN:STANDARD
TZOFFSETFROM:+0200
TZOFFSETTO:+0100
TZNAME:CET
DTSTART:20271031T010000
END:STANDARD
END:VTIMEZONE
BEGIN:VEVENT
DTSTART;TZID=Europe/Budapest:20241121T090000
DTEND;TZID=Europe/Budapest:20241121T133000
DTSTAMP:20260420T135730
CREATED:20240226T211327Z
LAST-MODIFIED:20241107T122735Z
UID:58826-1732179600-1732195800@bcsdh.hu
SUMMARY:Circular Economy Summit
DESCRIPTION:REGISTRATION\nOnly for invited guests \n\nAGENDA* \n\n\n\n9:00 \n  \n \nWelcome speeches \nDésirée BONIS\, Ambassador\, Embassy of the Kingdom of the Netherlands \nAttila CHIKÁN Jr.\, President\, BCSDH\n\n\n9:10 \n \nThe current regulatory environment of the circular economy in Hungary \nMarta NAGY dr.\, Deputy State Secretary for Environment and Circular Economy\, Energy Ministry\n\n\n9:20 \n \nGlobal Resources Outlook 2024 \nRebecca NOHL\, Associate\, Systemic Earth\n\n\n9:35\nGlobal Circularity Protocol\, the standard of Circular Economy \nFilipe Camano GARCIA\, Director\, World Business Council for Sustainable Development (WBCSD)\n\n\n9:45 \n \nTrends in financing circular economy \nJoost VAN DUN\, Circular economy lead\, ING Sustainable Finance\, ING Bank\n\n\n10:00 \n  \n  \n  \n  \n \nCooperation\, but how? – Roundtable discussion \nModerator: Balint BARTHA-HORVÁTH Dr.\, Senior Sustainability Consultant\, CBRE \n·        Brigitta DEÁK\, Director\, Greenpro \n·        Csaba FARKAS\, Sustainability Director\, Master Good \n·        Árpád MUTSY\, Owner\, Biofungi (tbc) \n·        Joost VAN DUN\, Circular economy lead\, ING Sustainable Finance\, ING Bank\n\n\n10:30\nCoffee break\n\n\n11:00 \n  \n  \n  \n  \n  \n  \n \nInnovation pitches \n·        Repair Café Budapest – Noémi GÉGÉNY\, Founder \n·        Denim Deal – Roosmarie RUIGROK\, Sustainable Fashion & Textile Expert \n·        Geoconstans Kft. – Beáta JAKAB\, Owner and director \n·        Miscancell – Marcel VAN DE PEPPEL\, CEO \n·        University of Art and Design Budapest (MOME) – Dalma BERKOVICS\, Head of Partnerships – Innovation Center \n·        „Zoknicsere” program – Zoltán CSÁNYI\, Founder\n\n\n11:55 \n \nCircular Economy Platform 2024 Summary and next steps \nIvett TAKÁCS\, Project Manager\, BCSDH\n\n\n12:00\nClosing\n\n\n\n*We reserve the right to change the agenda. \nThe invitation is intended and free of charge for the leaders and contact persons of BCSDH member companies\, the Circular Economy Platform members and the invited guests of the ING Bank and the Embassy of the Kingdom of the Netherlands. \nDue to the limited number of places\, max. 2 people’s registration from the same organization will be accepted free. Further participants will be charged with a participation fee (25.000 HUF + VAT). \nTo guarantee a seat\, please register by 4 November 2024. Written cancellations will be accepted by 11 November; late cancellations or ‘no-shows’ will be charged with the participation fee (25.000 HUF + VAT). \nAt the conference\, foreign speakers will speak in English\, and local speakers/panelists will speak in Hungarian. Presentations will be simultaneously interpreted into English or Hungarian both in person and online. \nFor further information\, please contact Ivett Takács at ivett.takacs@bcsdh.hu. \n  \nMAIN SPONSOR OF THE EVENT: \n \n  \n  \n  \nAND SPONSORS: \n \n  \n  \n  \nSPONSORS OF THE CIRCULAR ECONOMY PLATFORM IN HUNGARY IN 2024: \n 
URL:https://bcsdh.hu/en/event/circular-economy-summit-2024/
LOCATION:Öbölház\, Kopaszi gát 2\, Budapest\,\, Pest\, 1117\, Magyarország
CATEGORIES:Circular Economy platform,featured
ATTACH;FMTTYPE=image/png:https://bcsdh.hu/wp-content/uploads/2024/02/kicsi_Header-ENG.png
END:VEVENT
BEGIN:VEVENT
DTSTART;TZID=Europe/Budapest:20250311T140000
DTEND;TZID=Europe/Budapest:20250311T160000
DTSTAMP:20260420T135730
CREATED:20250211T150044Z
LAST-MODIFIED:20250211T150105Z
UID:67130-1741701600-1741708800@bcsdh.hu
SUMMARY:Circular Economy Working Group
DESCRIPTION:Event exclusively for members of the BCSDH ESG Working Group\nTo participate in the event\, pre-registration is required from the Working Group members\, the registration link is included in the invitation to the event. \nTo join the working group or for any questions or comments\, please contact Ivett Takács (ivett.takacs@bcsdh.hu)\, the person in charge of the working group.
URL:https://bcsdh.hu/en/event/circular-economy-working-group-8/
CATEGORIES:Circular Economy platform,Working group
END:VEVENT
BEGIN:VEVENT
DTSTART;TZID=Europe/Budapest:20250611T140000
DTEND;TZID=Europe/Budapest:20250611T160000
DTSTAMP:20260420T135730
CREATED:20250217T084444Z
LAST-MODIFIED:20250217T084444Z
UID:67346-1749650400-1749657600@bcsdh.hu
SUMMARY:Circular Economy Working Group
DESCRIPTION:Event exclusively for members of the BCSDH ESG Working Group\nTo participate in the event\, pre-registration is required from the Working Group members\, the registration link is included in the invitation to the event. \nTo join the working group or for any questions or comments\, please contact Ivett Takács (ivett.takacs@bcsdh.hu)\, the person in charge of the working group.
URL:https://bcsdh.hu/en/event/circular-economy-working-group-9/
CATEGORIES:Circular Economy platform,Working group
END:VEVENT
BEGIN:VEVENT
DTSTART;TZID=Europe/Budapest:20250909T140000
DTEND;TZID=Europe/Budapest:20250909T160000
DTSTAMP:20260420T135730
CREATED:20250217T085744Z
LAST-MODIFIED:20250217T085744Z
UID:67392-1757426400-1757433600@bcsdh.hu
SUMMARY:Circular Economy Working Group
DESCRIPTION:Event exclusively for members of the BCSDH ESG Working Group\nTo participate in the event\, pre-registration is required from the Working Group members\, the registration link is included in the invitation to the event. \nTo join the working group or for any questions or comments\, please contact Ivett Takács (ivett.takacs@bcsdh.hu)\, the person in charge of the working group.
URL:https://bcsdh.hu/en/event/circular-economy-working-group-10/
CATEGORIES:Circular Economy platform,Working group
END:VEVENT
BEGIN:VEVENT
DTSTART;TZID=Europe/Budapest:20251120T090000
DTEND;TZID=Europe/Budapest:20251120T133000
DTSTAMP:20260420T135730
CREATED:20250217T091206Z
LAST-MODIFIED:20251027T082855Z
UID:67431-1763629200-1763645400@bcsdh.hu
SUMMARY:Circular Economy Summit
DESCRIPTION:  \n \nREGISTRATION \n\n  \nAGENDA* \n\n\n\n9:00 \n  \n \nOpening remarks \nWillem VAN EE\, Ambassador\, Embassy of the Kingdom of the Netherlands \nAttila CHIKÁN JR.\, President\, BCSDH\n\n\n9:10 \n \nNational Implementation and Future Possibilities of the Circular Economy in Hungary \nCsaba GONDOLA Dr.\, State Secretary for Circular Economy and Climate Policy\, Energy Ministry\n\n\n9:25 \n \nTransitioning to a circular economy – The Dutch Concrete Agreement as example \nProf. Dr. Jacqueline CRAMER\, Emeritus Professor\, Utrecht University\n\n\n9:45 \n  \n \nFinancing the circular economy \nJoost van Dun\, Director Sustainable Solutions Group & Circular Economy Lead\, ING Sustainable Finance\, ING Bank\n\n\n10:00 \n  \n  \n \nInnovation and best practices in the circular economy – Roundtable discussion \nNoémi BAKOS\, Founder\, Equinox \nKrisztina BOGDÁN\, CEO\, ING Bank \nAnita SIMON\, Deputy-CEO\, Alteo Group\n\n\n10:30\nCOFFEE BREAK\n\n\n11:00 \n \n‘Sustainable Tulip Award’ Ceremony \nWillem VAN EE\, Ambassador\, Embassy of the Kingdom of the Netherlands\n\n\n11:10 \n  \n  \n  \n \nCircular Innovation Pitches \nCyclosteel – László VADAS\, Managing Director \nDBH Group – László ÜRGE\, Executive Board Member \nDecathlon – Diána ANDRI\, Chief Sustainability Officer \nTerra Matters – Carole HENRY\, Business Development Manager\n\n\n11:40 \n \nCircular Economy Platform 2025–2026 \nIvett TAKÁCS\, Circular Economy Project Manager\, BCSDH\n\n\n11:45\nInspiration and knowledge sharing – What challenges and opportunities do you see for your organization in the field of circular economy?\n\n\n12:30\nNetworking and lunch\n\n\n\n*We reserve the right to change the agenda.
URL:https://bcsdh.hu/en/event/circular-economy-summit-2025/
LOCATION:Öbölház\, Kopaszi gát 2\, Budapest\,\, Pest\, 1117\, Magyarország
CATEGORIES:Circular Economy platform,featured
END:VEVENT
BEGIN:VEVENT
DTSTART;TZID=Europe/Budapest:20260317T140000
DTEND;TZID=Europe/Budapest:20260317T160000
DTSTAMP:20260420T135730
CREATED:20260313T110032Z
LAST-MODIFIED:20260313T110046Z
UID:76557-1773756000-1773763200@bcsdh.hu
SUMMARY:Circular Economy Working Group
DESCRIPTION:Event exclusively for members of the BCSDH ESG Working Group\nTo participate in the event\, pre-registration is required from the Working Group members\, the registration link is included in the invitation to the event. \nTo join the working group or for any questions or comments\, please contact Ivett Takács (ivett.takacs@bcsdh.hu)\, the person in charge of the working group.
URL:https://bcsdh.hu/en/event/circular-economy-working-group-11/
LOCATION:IKEA
CATEGORIES:Circular Economy platform,Working group
END:VEVENT
BEGIN:VEVENT
DTSTART;TZID=Europe/Budapest:20260617T140000
DTEND;TZID=Europe/Budapest:20260617T160000
DTSTAMP:20260420T135730
CREATED:20260313T125927Z
LAST-MODIFIED:20260313T125927Z
UID:76632-1781704800-1781712000@bcsdh.hu
SUMMARY:Circular Economy Working Group
DESCRIPTION:Event exclusively for members of the BCSDH ESG Working Group\nTo participate in the event\, pre-registration is required from the Working Group members\, the registration link is included in the invitation to the event. \nTo join the working group or for any questions or comments\, please contact Ivett Takács (ivett.takacs@bcsdh.hu)\, the person in charge of the working group.
URL:https://bcsdh.hu/en/event/circular-economy-working-group-12/
LOCATION:CPI Hungary
CATEGORIES:Circular Economy platform,Working group
END:VEVENT
END:VCALENDAR