BEGIN:VCALENDAR
VERSION:2.0
PRODID:-//BCSDH - ECPv6.15.20//NONSGML v1.0//EN
CALSCALE:GREGORIAN
METHOD:PUBLISH
X-WR-CALNAME:BCSDH
X-ORIGINAL-URL:https://bcsdh.hu
X-WR-CALDESC:Események BCSDH
REFRESH-INTERVAL;VALUE=DURATION:PT1H
X-Robots-Tag:noindex
X-PUBLISHED-TTL:PT1H
BEGIN:VTIMEZONE
TZID:Europe/Budapest
BEGIN:DAYLIGHT
TZOFFSETFROM:+0100
TZOFFSETTO:+0200
TZNAME:CEST
DTSTART:20240331T010000
END:DAYLIGHT
BEGIN:STANDARD
TZOFFSETFROM:+0200
TZOFFSETTO:+0100
TZNAME:CET
DTSTART:20241027T010000
END:STANDARD
BEGIN:DAYLIGHT
TZOFFSETFROM:+0100
TZOFFSETTO:+0200
TZNAME:CEST
DTSTART:20250330T010000
END:DAYLIGHT
BEGIN:STANDARD
TZOFFSETFROM:+0200
TZOFFSETTO:+0100
TZNAME:CET
DTSTART:20251026T010000
END:STANDARD
BEGIN:DAYLIGHT
TZOFFSETFROM:+0100
TZOFFSETTO:+0200
TZNAME:CEST
DTSTART:20260329T010000
END:DAYLIGHT
BEGIN:STANDARD
TZOFFSETFROM:+0200
TZOFFSETTO:+0100
TZNAME:CET
DTSTART:20261025T010000
END:STANDARD
END:VTIMEZONE
BEGIN:VEVENT
DTSTART;TZID=Europe/Budapest:20250604T140000
DTEND;TZID=Europe/Budapest:20250604T160000
DTSTAMP:20260424T193543
CREATED:20250508T064123Z
LAST-MODIFIED:20250514T121603Z
UID:69885-1749045600-1749052800@bcsdh.hu
SUMMARY:Race to Zero munkacsoport
DESCRIPTION:Kizárólag a BCSDH Race to Zero munkacsoportjának tagjai számára meghirdetett esemény\nAz eseményen való részvételhez előzetes regisztráció szükséges\, melyet az alábbi űrlapon tehet meg:\n\nA munkacsoporthoz való csatlakozás\, illetve bármilyen kérdés és észrevétel esetén keresse Nagy Andreát (andrea.nagy@bcsdh.hu)\, a Race to Zero program szakmai vezetőjét. \nKöszönjük támogatóinknak!
URL:https://bcsdh.hu/esemeny/race-to-zero-munkacsoport-11/
LOCATION:ALTEO\, Budapest
CATEGORIES:Race to Zero
ORGANIZER;CN="Nagy Andrea":MAILTO:andrea.nagy@bcsdh.hu
END:VEVENT
END:VCALENDAR