BEGIN:VCALENDAR
VERSION:2.0
PRODID:-//BCSDH - ECPv6.15.20//NONSGML v1.0//EN
CALSCALE:GREGORIAN
METHOD:PUBLISH
X-ORIGINAL-URL:https://bcsdh.hu
X-WR-CALDESC:Események BCSDH
REFRESH-INTERVAL;VALUE=DURATION:PT1H
X-Robots-Tag:noindex
X-PUBLISHED-TTL:PT1H
BEGIN:VTIMEZONE
TZID:Europe/Budapest
BEGIN:DAYLIGHT
TZOFFSETFROM:+0100
TZOFFSETTO:+0200
TZNAME:CEST
DTSTART:20170326T010000
END:DAYLIGHT
BEGIN:STANDARD
TZOFFSETFROM:+0200
TZOFFSETTO:+0100
TZNAME:CET
DTSTART:20171029T010000
END:STANDARD
BEGIN:DAYLIGHT
TZOFFSETFROM:+0100
TZOFFSETTO:+0200
TZNAME:CEST
DTSTART:20180325T010000
END:DAYLIGHT
BEGIN:STANDARD
TZOFFSETFROM:+0200
TZOFFSETTO:+0100
TZNAME:CET
DTSTART:20181028T010000
END:STANDARD
BEGIN:DAYLIGHT
TZOFFSETFROM:+0100
TZOFFSETTO:+0200
TZNAME:CEST
DTSTART:20190331T010000
END:DAYLIGHT
BEGIN:STANDARD
TZOFFSETFROM:+0200
TZOFFSETTO:+0100
TZNAME:CET
DTSTART:20191027T010000
END:STANDARD
END:VTIMEZONE
BEGIN:VEVENT
DTSTART;TZID=Europe/Budapest:20181018T110000
DTEND;TZID=Europe/Budapest:20181018T140000
DTSTAMP:20260420T131355
CREATED:20220201T105745Z
LAST-MODIFIED:20220201T105745Z
UID:27968-1539860400-1539871200@bcsdh.hu
SUMMARY:BCSDH Üzleti ebéd
DESCRIPTION:.\n. \n. \nA Magyarországi Üzleti Tanács a Fenntartható Fejlődésért (BCSDH) szeretettel meghívja Önt a tavaly alapított Fenntartható jövőért díj ünnepélyes átadására és az Action 2020 Magyarország Program idei üzleti ajánlásainak bemutatása alkalmából szervezett üzleti ebédre. \nIdőpont: 2018. október 18. 11:00 – 14:00 \nHelyszín: ÖbölHáz (1117 Budapest\, Kopaszi gát 2.) \nVendégelőadónk: Doreswamy Nandkishore (Nandu)\, a Nestlé SA egykori ügyvezető alelnöke\, jelenleg a London Business School Stratégiai és Vállalkozási Karának vezető tanácsadója \n \nProgram \n\n\n\n\n11:00 \n11:03\n\nIfj. Chikán Attila köszöntő\, elnök\, BCSDH; vezérigazgató\, ALTEO Group \nIfj. Bárány László köszöntő\, ügyvezető igazgató\, Master Good Kft.\n\n\n11:06\nDoreswamy Nandkishore (Nandu) előadása: „What is the purpose of business?”\n\n\n\n11:45 \n  \n  \n  \n \nKörforgásban a fenntartható életmódért –\nkerekasztal-beszélgetés\, moderál: Márta Irén\, igazgató\, BCSDH \n\nArató Gábor\, Manuli Stretch Magyarország Kft.\nIfj. Bárány László\, Master Good Kft.\nHorváth Ágnes\, McDonald’s Magyarországi Étterem Hálózat Kft.\nRegina Kuzmina\, Unilever Magyarország Kft.\nNoszek Péter\, Nestlé Hungária Kft.\n\n\n\n\n12:20\n„A jövő vezetői” tehetségprogram oklevél átadója\n\n\n12:35\n„A fenntartható jövőért” díj átadása\n\n\n12:50\nEbéd\n\n\n\n  \nAz előadásokhoz és a kerekasztal-beszélgetéshez angol és magyar szinkrontolmácsolást biztosítunk. \nBCSDH tagvállalatok vezetőinek és kapcsolattartójának illetve az Action 2020 programban résztvevő vállalatvezetők és szakértők részére a részvétel díjmentes.  \nRészvételi díj: 15.000 Ft/fő + áfa. Jelentkezni 2018. október 12-ig lehetséges.\nLemondást október 12-ig fogadunk el írásban\, ezt követően a részvételi díj kiszámlázásra kerül. \nParkolásra a Kopaszi gát bejáratánál levő parkolóban van lehetőség. Közösségi közlekedéssel a helyszín az 1-es villamossal közelíthető meg (Infopark megálló). \nAz eseménnyel kapcsolatos további információért keresse Takács Ivettet\, az ivett.takacs@bcsdh.hu e-mail címen. \n  \nAz Action2020 Magyarország Program szponzorai 2018-ban: \n \n  \nEgyüttműködő partnerek:
URL:https://bcsdh.hu/esemeny/bcsdh-uzleti-ebed/
END:VEVENT
END:VCALENDAR