BEGIN:VCALENDAR
VERSION:2.0
PRODID:-//BCSDH - ECPv6.15.20//NONSGML v1.0//EN
CALSCALE:GREGORIAN
METHOD:PUBLISH
X-ORIGINAL-URL:https://bcsdh.hu
X-WR-CALDESC:Események BCSDH
REFRESH-INTERVAL;VALUE=DURATION:PT1H
X-Robots-Tag:noindex
X-PUBLISHED-TTL:PT1H
BEGIN:VTIMEZONE
TZID:Europe/Budapest
BEGIN:DAYLIGHT
TZOFFSETFROM:+0100
TZOFFSETTO:+0200
TZNAME:CEST
DTSTART:20180325T010000
END:DAYLIGHT
BEGIN:STANDARD
TZOFFSETFROM:+0200
TZOFFSETTO:+0100
TZNAME:CET
DTSTART:20181028T010000
END:STANDARD
BEGIN:DAYLIGHT
TZOFFSETFROM:+0100
TZOFFSETTO:+0200
TZNAME:CEST
DTSTART:20190331T010000
END:DAYLIGHT
BEGIN:STANDARD
TZOFFSETFROM:+0200
TZOFFSETTO:+0100
TZNAME:CET
DTSTART:20191027T010000
END:STANDARD
BEGIN:DAYLIGHT
TZOFFSETFROM:+0100
TZOFFSETTO:+0200
TZNAME:CEST
DTSTART:20200329T010000
END:DAYLIGHT
BEGIN:STANDARD
TZOFFSETFROM:+0200
TZOFFSETTO:+0100
TZNAME:CET
DTSTART:20201025T010000
END:STANDARD
BEGIN:DAYLIGHT
TZOFFSETFROM:+0100
TZOFFSETTO:+0200
TZNAME:CEST
DTSTART:20210328T010000
END:DAYLIGHT
BEGIN:STANDARD
TZOFFSETFROM:+0200
TZOFFSETTO:+0100
TZNAME:CET
DTSTART:20211031T010000
END:STANDARD
END:VTIMEZONE
BEGIN:VEVENT
DTSTART;TZID=Europe/Budapest:20190115T173000
DTEND;TZID=Europe/Budapest:20190115T193000
DTSTAMP:20260420T083243
CREATED:20220201T105801Z
LAST-MODIFIED:20220201T105801Z
UID:27973-1547573400-1547580600@bcsdh.hu
SUMMARY:A jövő vezetői tehetségprogram 2019 – Megnyitó
DESCRIPTION:A Magyarországi Üzleti Tanács a Fenntartható Fejlődésért (BCSDH) szeretettel meghívja a program résztvevőit és mentorait „A jövő vezetői” tehetségprogram 2019 nyitó eseményére.\nIdőpont: 2019. január 15. (kedd)\, 18:00-21:00 (regisztráció\, érkezés 17:30-tól)
URL:https://bcsdh.hu/esemeny/a-jovo-vezetoi-tehetsegprogram-2019-megnyito/
END:VEVENT
BEGIN:VEVENT
DTSTART;TZID=Europe/Budapest:20190121T180000
DTEND;TZID=Europe/Budapest:20200121T200000
DTSTAMP:20260420T083243
CREATED:20220201T110748Z
LAST-MODIFIED:20220201T110748Z
UID:28016-1548093600-1579636800@bcsdh.hu
SUMMARY:"A jövő vezetői" tehetségprogram nyitórendezvénye
DESCRIPTION:
URL:https://bcsdh.hu/esemeny/a-jovo-vezetoi-tehetsegprogram-nyitorendezvenye/
END:VEVENT
END:VCALENDAR