BEGIN:VCALENDAR
VERSION:2.0
PRODID:-//BCSDH - ECPv6.15.20//NONSGML v1.0//EN
CALSCALE:GREGORIAN
METHOD:PUBLISH
X-WR-CALNAME:BCSDH
X-ORIGINAL-URL:https://bcsdh.hu
X-WR-CALDESC:Események BCSDH
REFRESH-INTERVAL;VALUE=DURATION:PT1H
X-Robots-Tag:noindex
X-PUBLISHED-TTL:PT1H
BEGIN:VTIMEZONE
TZID:Europe/Budapest
BEGIN:DAYLIGHT
TZOFFSETFROM:+0100
TZOFFSETTO:+0200
TZNAME:CEST
DTSTART:20180325T010000
END:DAYLIGHT
BEGIN:STANDARD
TZOFFSETFROM:+0200
TZOFFSETTO:+0100
TZNAME:CET
DTSTART:20181028T010000
END:STANDARD
BEGIN:DAYLIGHT
TZOFFSETFROM:+0100
TZOFFSETTO:+0200
TZNAME:CEST
DTSTART:20190331T010000
END:DAYLIGHT
BEGIN:STANDARD
TZOFFSETFROM:+0200
TZOFFSETTO:+0100
TZNAME:CET
DTSTART:20191027T010000
END:STANDARD
BEGIN:DAYLIGHT
TZOFFSETFROM:+0100
TZOFFSETTO:+0200
TZNAME:CEST
DTSTART:20200329T010000
END:DAYLIGHT
BEGIN:STANDARD
TZOFFSETFROM:+0200
TZOFFSETTO:+0100
TZNAME:CET
DTSTART:20201025T010000
END:STANDARD
BEGIN:DAYLIGHT
TZOFFSETFROM:+0100
TZOFFSETTO:+0200
TZNAME:CEST
DTSTART:20210328T010000
END:DAYLIGHT
BEGIN:STANDARD
TZOFFSETFROM:+0200
TZOFFSETTO:+0100
TZNAME:CET
DTSTART:20211031T010000
END:STANDARD
END:VTIMEZONE
BEGIN:VEVENT
DTSTART;TZID=Europe/Budapest:20190121T180000
DTEND;TZID=Europe/Budapest:20200121T200000
DTSTAMP:20260420T014540
CREATED:20220201T110748Z
LAST-MODIFIED:20220201T110748Z
UID:28016-1548093600-1579636800@bcsdh.hu
SUMMARY:"A jövő vezetői" tehetségprogram nyitórendezvénye
DESCRIPTION:
URL:https://bcsdh.hu/esemeny/a-jovo-vezetoi-tehetsegprogram-nyitorendezvenye/
END:VEVENT
BEGIN:VEVENT
DTSTART;TZID=Europe/Budapest:20190514T150000
DTEND;TZID=Europe/Budapest:20190514T170000
DTSTAMP:20260420T014540
CREATED:20220201T105831Z
LAST-MODIFIED:20220201T105831Z
UID:27981-1557846000-1557853200@bcsdh.hu
SUMMARY:Vállalatvezetői kerekasztal-beszélgetések 2019 - Víz
DESCRIPTION:A Magyarországi Üzleti Tanács a Fenntartható Fejlődésért (BCSDH) tisztelettel meghívja tagvállalatainak első számú vezetőit az Action 2020 Vállalatvezetői Kerekasztal-beszélgetésre\, melynek fókuszában idén a Víz áll. \n  \nA Vállalatvezetői kerekasztal céljai: \n\nA BCSDH üzleti szféra számára készülő ajánlásainak és akcióinak megvitatása az első számú vezetőkkel\,\naz Action 2020 Víz célkitűzéseit támogató\, kiemelkedő üzleti megoldások és a program eddigi eredményeinek megosztása.\n\nA kerekasztal beszélgetések során három fő témát érintünk: \n\nFelkészültek-e a vállalatok a drasztikusan változó vízviszonyokra?\nHogyan tudja a vállalatok vízgazdálkodása támogatni a szervezet klímaadaptációját?\nA vízgazdálkodási együttműködésekben rejlő üzleti lehetőségek\n\n*** \nIdőpontok: kérjük az alábbi négy időpont közül elfoglaltságához mérten válassza ki azt\, amelyik a leginkább megfelel Önnek: \n\nMájus 14. 15:00-17:00\, helyszín: LeasePlan Hungary Zrt.\nMájus 29. 15:00-17:00\, helyszín: Szentkirályi-Kékkúti Ásványvíz Kft.\nSzeptember 3. 15:00-17:00\, helyszín: Future FM Létesítménygazdálkodási Zrt.\nSzeptember 19.\, 15:00-17:00\, helyszín: Zwack Unicum Nyrt. (tbc)\n\n*** \nA rendezvényen kizárólag a BCSDH tagvállalatainak első számú vezetői vehetnek részt. A meghívó névre szól és nem átruházható. Az eredményes munka érdekében alkalmanként maximum 15 fő részvételét tudjuk biztosítani a jelentkezés sorrendjében. \nA felkészüléshez előzetes szakmai anyagot küldünk a rendezvény előtt két héttel. \nKérjük\, részvételi szándékát május 7-ig jelezze Galambosné Dudás Zsófia szakmai vezetőnél (zsofia.dudas@bcsdh.hu).
URL:https://bcsdh.hu/esemeny/vallalatvezetoi-kerekasztal-beszelgetesek-2019-viz/
END:VEVENT
BEGIN:VEVENT
DTSTART;VALUE=DATE:20190516
DTEND;VALUE=DATE:20190517
DTSTAMP:20260420T014540
CREATED:20220201T105832Z
LAST-MODIFIED:20220201T105832Z
UID:27985-1557964800-1558051199@bcsdh.hu
SUMMARY:A jövő vezetői tehetségprogram\, 5. szakmai nap\, BUDapest Airport
DESCRIPTION:
URL:https://bcsdh.hu/esemeny/a-jovo-vezetoi-tehetsegprogram-5-szakmai-nap-budapest-airport/
END:VEVENT
BEGIN:VEVENT
DTSTART;TZID=Europe/Budapest:20190529T150000
DTEND;TZID=Europe/Budapest:20190529T170000
DTSTAMP:20260420T014540
CREATED:20220201T105831Z
LAST-MODIFIED:20220201T105831Z
UID:27982-1559142000-1559149200@bcsdh.hu
SUMMARY:Vállalatvezetői kerekasztal-beszélgetések 2019 - Víz
DESCRIPTION:A Magyarországi Üzleti Tanács a Fenntartható Fejlődésért (BCSDH) tisztelettel meghívja tagvállalatainak első számú vezetőit az Action 2020 Vállalatvezetői Kerekasztal-beszélgetésre\, melynek fókuszában idén a Víz áll. \n  \nA Vállalatvezetői kerekasztal céljai: \n\nA BCSDH üzleti szféra számára készülő ajánlásainak és akcióinak megvitatása az első számú vezetőkkel\,\naz Action 2020 Víz célkitűzéseit támogató\, kiemelkedő üzleti megoldások és a program eddigi eredményeinek megosztása.\n\nA kerekasztal beszélgetések során három fő témát érintünk: \n\nFelkészültek-e a vállalatok a drasztikusan változó vízviszonyokra?\nHogyan tudja a vállalatok vízgazdálkodása támogatni a szervezet klímaadaptációját?\nA vízgazdálkodási együttműködésekben rejlő üzleti lehetőségek\n\n*** \nIdőpontok: kérjük az alábbi négy időpont közül elfoglaltságához mérten válassza ki azt\, amelyik a leginkább megfelel Önnek: \n\nMájus 14. 15:00-17:00\, helyszín: LeasePlan Hungary Zrt.\nMájus 29. 15:00-17:00\, helyszín: Szentkirályi-Kékkúti Ásványvíz Kft.\nSzeptember 3. 15:00-17:00\, helyszín: Future FM Létesítménygazdálkodási Zrt.\nSzeptember 19.\, 15:00-17:00\, helyszín: Zwack Unicum Nyrt. (tbc)\n\n*** \nA rendezvényen kizárólag a BCSDH tagvállalatainak első számú vezetői vehetnek részt. A meghívó névre szól és nem átruházható. Az eredményes munka érdekében alkalmanként maximum 15 fő részvételét tudjuk biztosítani a jelentkezés sorrendjében. \nA felkészüléshez előzetes szakmai anyagot küldünk a rendezvény előtt két héttel. \nKérjük\, részvételi szándékát május 7-ig jelezze Galambosné Dudás Zsófia szakmai vezetőnél (zsofia.dudas@bcsdh.hu).
URL:https://bcsdh.hu/esemeny/vallalatvezetoi-kerekasztal-beszelgetesek-2019-viz-2/
END:VEVENT
BEGIN:VEVENT
DTSTART;TZID=Europe/Budapest:20190531T130000
DTEND;TZID=Europe/Budapest:20190601T140000
DTSTAMP:20260420T014540
CREATED:20220201T110032Z
LAST-MODIFIED:20220201T110032Z
UID:27988-1559307600-1559397600@bcsdh.hu
SUMMARY:BCSDH hétvége 2019- Hungrana\, Szabadegyháza -  Katica Tanya\, Patca
DESCRIPTION:  \nA Magyarországi Üzleti Tanács a Fenntartható Fejlődésért (BCSDH) hétvégi kötetlen programot szervez tagvállalati vezetőinek.\nA részvétel névre szóló meghívóra való hivatkozással lehetséges. \nIdőpont: 2019. május 31- június 1. (péntek-szombat\, érkezés pénteken 13:30-tól)\nHelyszín: Hungrana\, Szabadegyháza –  Katica Tanya\, Patca \n  \nRegisztráció\n\nA részvétel díjmentes\, mely magában foglalja a szakmai programokat\, a pénteki vacsorát és a szombati ebédet\, de nem tartalmazza a szállás díját\, melyet kérünk egyénileg foglalni és fizetni.\nA meghívás a BCSDH tagvállalatok vezetői és kisérője részére szól és nem átruházható. \n  \nKérdés esetén kérjük keresse Takács Ivettet\, az ivett.takacs@bcsdh.hu e-mail címen. \n  \nAz esemény támogatói és házigazdái:
URL:https://bcsdh.hu/esemeny/bcsdh-hetvege-2019-hungrana-szabadegyhaza-katica-tanya-patca/
END:VEVENT
END:VCALENDAR